BEGIN:VCALENDAR
VERSION:2.0
PRODID:-//Shipley Baptist Church - ECPv6.15.20//NONSGML v1.0//EN
CALSCALE:GREGORIAN
METHOD:PUBLISH
X-WR-CALNAME:Shipley Baptist Church
X-ORIGINAL-URL:https://shipleybaptistchurch.org.uk
X-WR-CALDESC:Events for Shipley Baptist Church
REFRESH-INTERVAL;VALUE=DURATION:PT1H
X-Robots-Tag:noindex
X-PUBLISHED-TTL:PT1H
BEGIN:VTIMEZONE
TZID:Europe/London
BEGIN:DAYLIGHT
TZOFFSETFROM:+0000
TZOFFSETTO:+0100
TZNAME:BST
DTSTART:20220327T010000
END:DAYLIGHT
BEGIN:STANDARD
TZOFFSETFROM:+0100
TZOFFSETTO:+0000
TZNAME:GMT
DTSTART:20221030T010000
END:STANDARD
BEGIN:DAYLIGHT
TZOFFSETFROM:+0000
TZOFFSETTO:+0100
TZNAME:BST
DTSTART:20230326T010000
END:DAYLIGHT
BEGIN:STANDARD
TZOFFSETFROM:+0100
TZOFFSETTO:+0000
TZNAME:GMT
DTSTART:20231029T010000
END:STANDARD
BEGIN:DAYLIGHT
TZOFFSETFROM:+0000
TZOFFSETTO:+0100
TZNAME:BST
DTSTART:20240331T010000
END:DAYLIGHT
BEGIN:STANDARD
TZOFFSETFROM:+0100
TZOFFSETTO:+0000
TZNAME:GMT
DTSTART:20241027T010000
END:STANDARD
END:VTIMEZONE
BEGIN:VEVENT
DTSTART;TZID=Europe/London:20230611T104500
DTEND;TZID=Europe/London:20230611T120000
DTSTAMP:20260421T023847
CREATED:20230604T195558Z
LAST-MODIFIED:20230604T195558Z
UID:1591-1686480300-1686484800@shipleybaptistchurch.org.uk
SUMMARY:Sunday Morning Worship
DESCRIPTION:
URL:https://shipleybaptistchurch.org.uk/diary/sunday-morning-worship-92/
LOCATION:Shipley Baptist Church\, New Kirkgate\, Shipley\, BD18 3QY\, United Kingdom
ATTACH;FMTTYPE=image/jpeg:https://shipleybaptistchurch.org.uk/wp-content/uploads/2017/07/FB_IMG_1497690282878.jpg
END:VEVENT
BEGIN:VEVENT
DTSTART;TZID=Europe/London:20230618T104500
DTEND;TZID=Europe/London:20230618T120000
DTSTAMP:20260421T023847
CREATED:20230604T195639Z
LAST-MODIFIED:20230604T195639Z
UID:1593-1687085100-1687089600@shipleybaptistchurch.org.uk
SUMMARY:Sunday Morning Worship
DESCRIPTION:
URL:https://shipleybaptistchurch.org.uk/diary/sunday-morning-worship-93/
LOCATION:Shipley Baptist Church\, New Kirkgate\, Shipley\, BD18 3QY\, United Kingdom
ATTACH;FMTTYPE=image/jpeg:https://shipleybaptistchurch.org.uk/wp-content/uploads/2017/07/FB_IMG_1497690282878.jpg
END:VEVENT
BEGIN:VEVENT
DTSTART;TZID=Europe/London:20230625T104500
DTEND;TZID=Europe/London:20230625T120000
DTSTAMP:20260421T023847
CREATED:20230604T195713Z
LAST-MODIFIED:20230604T195713Z
UID:1595-1687689900-1687694400@shipleybaptistchurch.org.uk
SUMMARY:Sunday Morning Worship
DESCRIPTION:
URL:https://shipleybaptistchurch.org.uk/diary/sunday-morning-worship-94/
LOCATION:Shipley Baptist Church\, New Kirkgate\, Shipley\, BD18 3QY\, United Kingdom
ATTACH;FMTTYPE=image/jpeg:https://shipleybaptistchurch.org.uk/wp-content/uploads/2017/07/FB_IMG_1497690282878.jpg
END:VEVENT
END:VCALENDAR