BEGIN:VCALENDAR
VERSION:2.0
PRODID:-//Shipley Baptist Church - ECPv6.15.20//NONSGML v1.0//EN
CALSCALE:GREGORIAN
METHOD:PUBLISH
X-WR-CALNAME:Shipley Baptist Church
X-ORIGINAL-URL:https://shipleybaptistchurch.org.uk
X-WR-CALDESC:Events for Shipley Baptist Church
REFRESH-INTERVAL;VALUE=DURATION:PT1H
X-Robots-Tag:noindex
X-PUBLISHED-TTL:PT1H
BEGIN:VTIMEZONE
TZID:Europe/London
BEGIN:DAYLIGHT
TZOFFSETFROM:+0000
TZOFFSETTO:+0100
TZNAME:BST
DTSTART:20210328T010000
END:DAYLIGHT
BEGIN:STANDARD
TZOFFSETFROM:+0100
TZOFFSETTO:+0000
TZNAME:GMT
DTSTART:20211031T010000
END:STANDARD
BEGIN:DAYLIGHT
TZOFFSETFROM:+0000
TZOFFSETTO:+0100
TZNAME:BST
DTSTART:20220327T010000
END:DAYLIGHT
BEGIN:STANDARD
TZOFFSETFROM:+0100
TZOFFSETTO:+0000
TZNAME:GMT
DTSTART:20221030T010000
END:STANDARD
BEGIN:DAYLIGHT
TZOFFSETFROM:+0000
TZOFFSETTO:+0100
TZNAME:BST
DTSTART:20230326T010000
END:DAYLIGHT
BEGIN:STANDARD
TZOFFSETFROM:+0100
TZOFFSETTO:+0000
TZNAME:GMT
DTSTART:20231029T010000
END:STANDARD
END:VTIMEZONE
BEGIN:VEVENT
DTSTART;TZID=Europe/London:20220514T100000
DTEND;TZID=Europe/London:20220514T120000
DTSTAMP:20260420T113609
CREATED:20220512T204951Z
LAST-MODIFIED:20220512T204951Z
UID:1438-1652522400-1652529600@shipleybaptistchurch.org.uk
SUMMARY:Coffee Morning- for Christian Aid
DESCRIPTION:
URL:https://shipleybaptistchurch.org.uk/diary/coffee-morning-for-christian-aid/
LOCATION:Northcliffe Church
ATTACH;FMTTYPE=image/jpeg:https://shipleybaptistchurch.org.uk/wp-content/uploads/2017/07/FB_IMG_1497690282878.jpg
END:VEVENT
BEGIN:VEVENT
DTSTART;TZID=Europe/London:20220515T104500
DTEND;TZID=Europe/London:20220515T120000
DTSTAMP:20260420T113609
CREATED:20220512T204514Z
LAST-MODIFIED:20220512T204514Z
UID:1430-1652611500-1652616000@shipleybaptistchurch.org.uk
SUMMARY:Sunday morning Worship
DESCRIPTION:Live streamed worship from the Baptist Assembly in Bournemouth
URL:https://shipleybaptistchurch.org.uk/diary/sunday-morning-worship-80/
ATTACH;FMTTYPE=image/jpeg:https://shipleybaptistchurch.org.uk/wp-content/uploads/2017/07/FB_IMG_1497690282878.jpg
END:VEVENT
BEGIN:VEVENT
DTSTART;TZID=Europe/London:20220522T104500
DTEND;TZID=Europe/London:20220522T120000
DTSTAMP:20260420T113609
CREATED:20220512T204559Z
LAST-MODIFIED:20220512T204559Z
UID:1432-1653216300-1653220800@shipleybaptistchurch.org.uk
SUMMARY:Sunday morning Worship
DESCRIPTION:
URL:https://shipleybaptistchurch.org.uk/diary/sunday-morning-worship-81/
ATTACH;FMTTYPE=image/jpeg:https://shipleybaptistchurch.org.uk/wp-content/uploads/2017/07/FB_IMG_1497690282878.jpg
END:VEVENT
BEGIN:VEVENT
DTSTART;TZID=Europe/London:20220522T190000
DTEND;TZID=Europe/London:20220522T203000
DTSTAMP:20260420T113609
CREATED:20220512T204843Z
LAST-MODIFIED:20220512T204843Z
UID:1436-1653246000-1653251400@shipleybaptistchurch.org.uk
SUMMARY:Christian Aid Service
DESCRIPTION:For all the churches part of Shipley Churches Together for Christian Aid
URL:https://shipleybaptistchurch.org.uk/diary/christian-aid-service/
LOCATION:Shipley Baptist Church\, New Kirkgate\, Shipley\, BD18 3QY\, United Kingdom
ATTACH;FMTTYPE=image/jpeg:https://shipleybaptistchurch.org.uk/wp-content/uploads/2017/07/FB_IMG_1497690282878.jpg
END:VEVENT
BEGIN:VEVENT
DTSTART;TZID=Europe/London:20220529T104500
DTEND;TZID=Europe/London:20220529T120000
DTSTAMP:20260420T113609
CREATED:20220512T204632Z
LAST-MODIFIED:20220512T204632Z
UID:1434-1653821100-1653825600@shipleybaptistchurch.org.uk
SUMMARY:Sunday morning Worship
DESCRIPTION:
URL:https://shipleybaptistchurch.org.uk/diary/sunday-morning-worship-82/
ATTACH;FMTTYPE=image/jpeg:https://shipleybaptistchurch.org.uk/wp-content/uploads/2017/07/FB_IMG_1497690282878.jpg
END:VEVENT
END:VCALENDAR