BEGIN:VCALENDAR
VERSION:2.0
PRODID:-//Shipley Baptist Church - ECPv6.15.20//NONSGML v1.0//EN
CALSCALE:GREGORIAN
METHOD:PUBLISH
X-ORIGINAL-URL:https://shipleybaptistchurch.org.uk
X-WR-CALDESC:Events for Shipley Baptist Church
REFRESH-INTERVAL;VALUE=DURATION:PT1H
X-Robots-Tag:noindex
X-PUBLISHED-TTL:PT1H
BEGIN:VTIMEZONE
TZID:Europe/London
BEGIN:DAYLIGHT
TZOFFSETFROM:+0000
TZOFFSETTO:+0100
TZNAME:BST
DTSTART:20210328T010000
END:DAYLIGHT
BEGIN:STANDARD
TZOFFSETFROM:+0100
TZOFFSETTO:+0000
TZNAME:GMT
DTSTART:20211031T010000
END:STANDARD
BEGIN:DAYLIGHT
TZOFFSETFROM:+0000
TZOFFSETTO:+0100
TZNAME:BST
DTSTART:20220327T010000
END:DAYLIGHT
BEGIN:STANDARD
TZOFFSETFROM:+0100
TZOFFSETTO:+0000
TZNAME:GMT
DTSTART:20221030T010000
END:STANDARD
BEGIN:DAYLIGHT
TZOFFSETFROM:+0000
TZOFFSETTO:+0100
TZNAME:BST
DTSTART:20230326T010000
END:DAYLIGHT
BEGIN:STANDARD
TZOFFSETFROM:+0100
TZOFFSETTO:+0000
TZNAME:GMT
DTSTART:20231029T010000
END:STANDARD
END:VTIMEZONE
BEGIN:VEVENT
DTSTART;TZID=Europe/London:20220415T104500
DTEND;TZID=Europe/London:20220415T123000
DTSTAMP:20260420T025429
CREATED:20220409T194608Z
LAST-MODIFIED:20220409T194608Z
UID:1371-1650019500-1650025800@shipleybaptistchurch.org.uk
SUMMARY:SBC and SCT Good Friday services and events
DESCRIPTION:SBC and SCT Good Friday services and events.\n10.45 in our worship room. Quiet reflection on the Easter story\n11.30 am gather at St Paul’s for worship and our walk of witness to the Town Hall\, then the Market Square\nfollowed by a soup lunch at SBC organised by SCT Cuppacare.
URL:https://shipleybaptistchurch.org.uk/diary/sbc-and-sct-good-friday-services-and-events/
LOCATION:Shipley Baptist Church\, New Kirkgate\, Shipley\, BD18 3QY\, United Kingdom
ATTACH;FMTTYPE=image/jpeg:https://shipleybaptistchurch.org.uk/wp-content/uploads/2017/07/FB_IMG_1497690282878.jpg
END:VEVENT
END:VCALENDAR