BEGIN:VCALENDAR
VERSION:2.0
PRODID:-//Shipley Baptist Church - ECPv6.15.20//NONSGML v1.0//EN
CALSCALE:GREGORIAN
METHOD:PUBLISH
X-WR-CALNAME:Shipley Baptist Church
X-ORIGINAL-URL:https://shipleybaptistchurch.org.uk
X-WR-CALDESC:Events for Shipley Baptist Church
REFRESH-INTERVAL;VALUE=DURATION:PT1H
X-Robots-Tag:noindex
X-PUBLISHED-TTL:PT1H
BEGIN:VTIMEZONE
TZID:Europe/London
BEGIN:DAYLIGHT
TZOFFSETFROM:+0000
TZOFFSETTO:+0100
TZNAME:BST
DTSTART:20180325T010000
END:DAYLIGHT
BEGIN:STANDARD
TZOFFSETFROM:+0100
TZOFFSETTO:+0000
TZNAME:GMT
DTSTART:20181028T010000
END:STANDARD
BEGIN:DAYLIGHT
TZOFFSETFROM:+0000
TZOFFSETTO:+0100
TZNAME:BST
DTSTART:20190331T010000
END:DAYLIGHT
BEGIN:STANDARD
TZOFFSETFROM:+0100
TZOFFSETTO:+0000
TZNAME:GMT
DTSTART:20191027T010000
END:STANDARD
BEGIN:DAYLIGHT
TZOFFSETFROM:+0000
TZOFFSETTO:+0100
TZNAME:BST
DTSTART:20200329T010000
END:DAYLIGHT
BEGIN:STANDARD
TZOFFSETFROM:+0100
TZOFFSETTO:+0000
TZNAME:GMT
DTSTART:20201025T010000
END:STANDARD
END:VTIMEZONE
BEGIN:VEVENT
DTSTART;TZID=Europe/London:20190623T104500
DTEND;TZID=Europe/London:20190623T120000
DTSTAMP:20260419T134531
CREATED:20190524T193101Z
LAST-MODIFIED:20190524T193129Z
UID:738-1561286700-1561291200@shipleybaptistchurch.org.uk
SUMMARY:Sunday Morning Worship
DESCRIPTION:Church Weekend at Home \nwith preacher Lina Toth
URL:https://shipleybaptistchurch.org.uk/diary/sunday-morning-worship-41/
LOCATION:Shipley Baptist Church\, New Kirkgate\, Shipley\, BD18 3QY\, United Kingdom
ATTACH;FMTTYPE=image/jpeg:https://shipleybaptistchurch.org.uk/wp-content/uploads/2017/07/FB_IMG_1497690282878.jpg
END:VEVENT
BEGIN:VEVENT
DTSTART;TZID=Europe/London:20190623T104500
DTEND;TZID=Europe/London:20190623T140000
DTSTAMP:20260419T134531
CREATED:20190620T192341Z
LAST-MODIFIED:20190620T192341Z
UID:760-1561286700-1561298400@shipleybaptistchurch.org.uk
SUMMARY:Church Weekend at Home
DESCRIPTION:This weekend has been our Church Weekend at Home and the weekend concludes today with the morning service\, followed by a Bring and Share lunch. Everyone is invited to stay for lunch.
URL:https://shipleybaptistchurch.org.uk/diary/church-weekend-at-home-3/
LOCATION:Shipley Baptist Church\, New Kirkgate\, Shipley\, BD18 3QY\, United Kingdom
ATTACH;FMTTYPE=image/jpeg:https://shipleybaptistchurch.org.uk/wp-content/uploads/2017/07/FB_IMG_1497690282878.jpg
END:VEVENT
END:VCALENDAR