BEGIN:VCALENDAR
VERSION:2.0
PRODID:-//Shipley Baptist Church - ECPv6.15.20//NONSGML v1.0//EN
CALSCALE:GREGORIAN
METHOD:PUBLISH
X-WR-CALNAME:Shipley Baptist Church
X-ORIGINAL-URL:https://shipleybaptistchurch.org.uk
X-WR-CALDESC:Events for Shipley Baptist Church
REFRESH-INTERVAL;VALUE=DURATION:PT1H
X-Robots-Tag:noindex
X-PUBLISHED-TTL:PT1H
BEGIN:VTIMEZONE
TZID:Europe/London
BEGIN:DAYLIGHT
TZOFFSETFROM:+0000
TZOFFSETTO:+0100
TZNAME:BST
DTSTART:20180325T010000
END:DAYLIGHT
BEGIN:STANDARD
TZOFFSETFROM:+0100
TZOFFSETTO:+0000
TZNAME:GMT
DTSTART:20181028T010000
END:STANDARD
BEGIN:DAYLIGHT
TZOFFSETFROM:+0000
TZOFFSETTO:+0100
TZNAME:BST
DTSTART:20190331T010000
END:DAYLIGHT
BEGIN:STANDARD
TZOFFSETFROM:+0100
TZOFFSETTO:+0000
TZNAME:GMT
DTSTART:20191027T010000
END:STANDARD
BEGIN:DAYLIGHT
TZOFFSETFROM:+0000
TZOFFSETTO:+0100
TZNAME:BST
DTSTART:20200329T010000
END:DAYLIGHT
BEGIN:STANDARD
TZOFFSETFROM:+0100
TZOFFSETTO:+0000
TZNAME:GMT
DTSTART:20201025T010000
END:STANDARD
END:VTIMEZONE
BEGIN:VEVENT
DTSTART;TZID=Europe/London:20190521T193000
DTEND;TZID=Europe/London:20190521T210000
DTSTAMP:20260420T084852
CREATED:20190406T190719Z
LAST-MODIFIED:20190406T190719Z
UID:703-1558467000-1558472400@shipleybaptistchurch.org.uk
SUMMARY:When there's a knock at the door
DESCRIPTION:Find out how to share the Gospel with Mormons with former JW Tony Brown.\nBethel Baptist Church\, Sandy Lane
URL:https://shipleybaptistchurch.org.uk/diary/when-theres-a-knock-at-the-door-2/
ATTACH;FMTTYPE=image/jpeg:https://shipleybaptistchurch.org.uk/wp-content/uploads/2017/07/FB_IMG_1497690282878.jpg
END:VEVENT
END:VCALENDAR